BEGIN:VCALENDAR
VERSION:2.0
PRODID:-//wp-events-plugin.com//7.2.3.1//EN
BEGIN:VEVENT
UID:97@lovingcarecatrescue.org
DTSTART:20260509T180000Z
DTEND:20260509T220000Z
DTSTAMP:20260220T204103Z
URL:https://lovingcarecatrescue.org/events/6th-annual-rock-out-for-rescue/
SUMMARY:6th Annual Rock Out For Rescue
DESCRIPTION:\n\n"𝐆𝐞𝐭 𝐑𝐞𝐚𝐝𝐲 𝐭𝐨 𝐏𝐚𝐫
 𝐭𝐲 𝐰𝐢𝐭𝐡 𝐚 𝐏𝐮𝐫𝐩𝐨𝐬𝐞!\n\nJoin us fo
 r our 𝟔𝐭𝐡 𝐀𝐧𝐧𝐮𝐚𝐥 𝐑𝐨𝐜𝐤 𝐎𝐮𝐭 
 𝐅𝐨𝐫 𝐑𝐞𝐬𝐜𝐮𝐞 fundraiser! This year is extra speci
 al as we are officially celebrating 𝐋𝐂𝐂𝐑’𝐬 𝟏𝟎𝐭
 𝐡 𝐀𝐧𝐧𝐢𝐯𝐞𝐫𝐬𝐚𝐫𝐲! We’re turning up the 
 volume at the vineyard for an evening of sun\, strings\, and fun!\n\n𝑻
 𝒉𝒆 𝑴𝒂𝒊𝒏 𝑺𝒕𝒂𝒈𝒆\nWe’re thrilled to host 
 𝐉𝐢𝐦𝐦𝐲 &amp\; 𝐭𝐡𝐞 𝐏𝐚𝐫𝐫𝐨𝐭𝐬\, on
 e of the nation’s top Jimmy Buffett cover bands. Pair those tropical roc
 k vibes with spectacular vineyard views and a glass of artfully crafted wi
 ne\, craft beer\, or artisan cider.\n\n𝑻𝒉𝒆 𝑷𝒆𝒓𝒌𝒔\n
 • 𝐖𝐢𝐧 𝐁𝐢𝐠: 40+ immaculate raffle baskets\, 50/50 drawi
 ng\, and silent auction.\n• 𝐂𝐚𝐩𝐭𝐮𝐫𝐞 𝐭𝐡𝐞 
 𝐌𝐨𝐦𝐞𝐧𝐭: Photo-ops\, cash prizes\, and plenty of dancing.
 \n• 𝐄𝐚𝐭 &amp\; 𝐃𝐫𝐢𝐧𝐤: Local food trucks will be 
 on-site (or bring your own snacks!).\n\n𝑻𝒉𝒆 𝑫𝒐𝒏𝒂𝒕
 𝒊𝒐𝒏 𝑺𝒕𝒂𝒕𝒊𝒐𝒏\nHelp us stock our pantry! For 
 𝐞𝐯𝐞𝐫𝐲 𝐢𝐭𝐞𝐦 𝐝𝐨𝐧𝐚𝐭𝐞𝐝 at the 
 event (bags of food\, litter\, toys\, etc.)\, you will receive one entry f
 or a chance to win a $𝟓𝟎 𝐆𝐢𝐟𝐭 𝐂𝐚𝐫𝐝! The more
  you give\, the better your odds.\n\n𝑺𝒖𝒑𝒑𝒐𝒓𝒕 𝒕𝒉
 𝒆 𝑴𝒊𝒔𝒔𝒊𝒐𝒏\nWe are looking for community partners t
 o help make this our biggest year yet!\n• 𝐒𝐩𝐨𝐧𝐬𝐨𝐫
 𝐬: Help us cover event costs so 100% of our efforts go to the animals.\
 n• 𝐁𝐚𝐬𝐤𝐞𝐭 𝐃𝐨𝐧𝐨𝐫𝐬: We are seeking the
 med raffle baskets to add to our "Win Big" lineup.\nInterested? Please con
 tact Olivia at olivia.evans.lccr@gmail.com to get involved or find out mor
 e information here.\n\nEvery ticket and dollar raised helps us find homes 
 for 800+ cats and kittens every year. Grab your fellow Parrot Heads and yo
 ur dancing shoes—let’s rock out for the rescues and toast to a decade 
 of saving lives!\n\n𝐁𝐮𝐲 𝐓𝐢𝐜𝐤𝐞𝐭𝐬 𝐍𝐨𝐰
 !\n\nhttps://www.eventbrite.com/e/rock-out-for-rescue-jimmy-the-parrots-at
 -the-vineyard-at-hershey-tickets-1982833853432\n\nStay up to date with all
  the excitement here!\n\n&nbsp\;
LOCATION:The Vineyard & Brewery at Hershey\, 598 Schoolhouse Rd\, MIddletow
 n\, PA\, 17057\, United States
X-APPLE-STRUCTURED-LOCATION;VALUE=URI;X-ADDRESS=598 Schoolhouse Rd\, MIddle
 town\, PA\, 17057\, United States;X-APPLE-RADIUS=100;X-TITLE=The Vineyard 
 & Brewery at Hershey:geo:0,0
END:VEVENT
END:VCALENDAR