BEGIN:VCALENDAR
VERSION:2.0
PRODID:-//wp-events-plugin.com//7.2.3.1//EN
BEGIN:VEVENT
UID:106@lovingcarecatrescue.org
DTSTART:20260606T110000Z
DTEND:20260606T150000Z
DTSTAMP:20260421T012557Z
URL:https://lovingcarecatrescue.org/events/crafts-cats-adoption-event-2/
SUMMARY:Crafts & Cats Adoption Event
DESCRIPTION:\nCome out to meet adoptable Loving Care Cat Rescue cats and ki
 ttens.\nSame-day adoptions may be possible if you submit an adoption appl
 ication one week in advance and are preapproved.\nAll LCCR cats and kitte
 ns are altered\, vaccinated for distemper &amp\; rabies\, tested for FIV a
 nd FeLV\, wormed\, treated for fleas\, and microchipped.\nKitty food donat
 ions appreciated. Don’t forget to ask about fostering while attending th
 is event.
LOCATION:Creative Spark Arts\, 335 Bridge Street\, New Cumberland\, PA\, Un
 ited States
X-APPLE-STRUCTURED-LOCATION;VALUE=URI;X-ADDRESS=335 Bridge Street\, New Cum
 berland\, PA\, United States;X-APPLE-RADIUS=100;X-TITLE=Creative Spark Art
 s:geo:0,0
END:VEVENT
END:VCALENDAR